BEGIN:VCALENDAR
VERSION:2.0
PRODID:-//TYPO3/NONSGML News system (news)//EN
CALSCALE:GREGORIAN
METHOD:PUBLISH
BEGIN:VEVENT
UID:news-110660@wernberg.gv.at

DTSTAMP:20260423T105259Z



DTSTART;TZID=Europe/Vienna:20261010T153000
DTEND;TZID=Europe/Vienna:20261010T000000

SUMMARY:Oktoberfest
DESCRIPTION:

LOCATION:Sportplatz Föderlach


END:VEVENT
END:VCALENDAR
