BEGIN:VCALENDAR
VERSION:2.0
PRODID:-//TYPO3/NONSGML News system (news)//EN
CALSCALE:GREGORIAN
METHOD:PUBLISH
BEGIN:VEVENT
UID:news-110632@wernberg.gv.at

DTSTAMP:20260421T102726Z



DTSTART;TZID=Europe/Vienna:20260507T190000
DTEND;TZID=Europe/Vienna:20260507T000000

SUMMARY:Bibelrunde
DESCRIPTION:

LOCATION:Kloster Wernberg


END:VEVENT
END:VCALENDAR
