BEGIN:VCALENDAR
VERSION:2.0
PRODID:-//TYPO3/NONSGML News system (news)//EN
CALSCALE:GREGORIAN
METHOD:PUBLISH
BEGIN:VEVENT
UID:news-112132@wernberg.gv.at

DTSTAMP:20260421T103216Z



DTSTART;TZID=Europe/Vienna:20260808T100000
DTEND;TZID=Europe/Vienna:20260808T000000

SUMMARY:Antiquitäten-Tag im Kloster Wernberg
DESCRIPTION:

LOCATION:Kloster Wernberg


END:VEVENT
END:VCALENDAR
