BEGIN:VCALENDAR
VERSION:2.0
PRODID:-//TYPO3/NONSGML News system (news)//EN
CALSCALE:GREGORIAN
METHOD:PUBLISH
BEGIN:VEVENT
UID:news-110745@wernberg.gv.at

DTSTAMP:20260421T120942Z



DTSTART;TZID=Europe/Vienna:20260604T093000
DTEND;TZID=Europe/Vienna:20260604T000000

SUMMARY:Fronleichnam
DESCRIPTION:

LOCATION:Gottestal


END:VEVENT
END:VCALENDAR
